{"text_format":"3","workbook":"xlsx","n_sheets":1,"sheets":["Sheet1"],"not_rendered":{"external_links":1,"defined_names":1},"read":"whole","date_system":"1900"}

{"sheet":"Sheet1","index":0,"n_rows":43,"n_cols":17,"rows_kept":43,"merged":[[1,0,1,16],[2,0,3,0],[2,1,3,1],[2,2,2,15],[2,16,3,16],[4,0,5,0],[6,0,7,0],[8,0,10,0],[11,0,12,0],[13,0,14,0],[15,0,17,0],[18,0,20,0],[21,0,23,0],[24,0,26,0],[27,0,29,0],[30,0,32,0],[33,0,35,0],[37,0,40,0],[41,0,41,1],[42,0,42,1],[42,2,42,16]]}
["附件1"]
["榆林市教育系统招聘2023届优秀高校毕业生计划表"]
["县市区","岗位","招  聘  学  科",{"$nulls":13},"合计"]
[null,null,"语文","数学","英语","物理","生物","化学","历史","政治","地理","体育","美术","音乐","日语","学前教育"]
["榆阳区\n（60名）","中学",10,8,6,2,2,null,2,2,2,{"$nulls":5},{"$f":"SUM(C5:P5)","v":34}]
[null,"小学",11,11,4,{"$nulls":11},{"$f":"SUM(C6:P6)","v":26}]
["横山区\n（30名）","中学",{"$f":"SUM([1]横山区!C5:C6)","v":3},{"$f":"SUM([1]横山区!D5:D6)","v":2},null,{"$f":"SUM([1]横山区!F5:F6)","v":2},{"$f":"SUM([1]横山区!G5:G6)","v":1},{"$f":"SUM([1]横山区!H5:H6)","v":2},{"$f":"SUM([1]横山区!I5:I6)","v":2},{"$f":"SUM([1]横山区!J5:J6)","v":2},null,{"$f":"SUM([1]横山区!L5:L6)","v":2},{"$f":"SUM([1]横山区!M5:M6)","v":2},{"$f":"SUM([1]横山区!N5:N6)","v":2},null,null,20]
[null,"幼儿园",{"$nulls":13},10,10]
["神木市\n（208名）","中学",{"$f":"SUM([1]神木市!C13:C18)","v":32},{"$f":"SUM([1]神木市!D13:D18)","v":18},null,{"$f":"SUM([1]神木市!F13:F18)","v":16},null,null,{"$f":"SUM([1]神木市!I13:I18)","v":8},{"$f":"SUM([1]神木市!J13:J18)","v":18},{"$f":"SUM([1]神木市!K15:K18)","v":14},{"$nulls":5},106]
[null,"小学",null,{"$f":"SUM([1]神木市!D5:D11)","v":12},{"$f":"SUM([1]神木市!E5:E11)","v":27},{"$nulls":6},{"$f":"SUM([1]神木市!L5:L11)","v":14},{"$f":"SUM([1]神木市!M8:M11)","v":14},{"$f":"SUM([1]神木市!N6:N11)","v":10},null,null,77]
[null,"幼儿园",{"$nulls":13},25,25]
["府谷县\n（38名）","中学",{"$f":"SUM([1]府谷县!C5:C10)","v":6},{"$f":"SUM([1]府谷县!D5:D10)","v":4},{"$f":"SUM([1]府谷县!E5:E10)","v":2},{"$f":"SUM([1]府谷县!F5:F10)","v":4},{"$f":"SUM([1]府谷县!G5:G10)","v":2},{"$f":"SUM([1]府谷县!H7:H10)","v":2},{"$f":"SUM([1]府谷县!I5:I10)","v":2},1,3,{"$nulls":3},1,null,27]
[null,"幼儿园",{"$nulls":13},11,11]
["定边县\n（43名）","中学",3,3,3,1,1,1,1,1,1,2,1,2,null,null,20]
[null,"幼儿园",{"$nulls":13},23,23]
["靖边县\n（95名）","中学",{"$f":"SUM([1]靖边县!C5:C9)","v":15},{"$f":"SUM([1]靖边县!D5:D9)","v":15},{"$f":"SUM([1]靖边县!E5:E9)","v":15},{"$f":"SUM([1]靖边县!F5:F9)","v":7},{"$f":"SUM([1]靖边县!G5:G9)","v":4},{"$f":"SUM([1]靖边县!H5:H9)","v":2},{"$f":"SUM([1]靖边县!I5:I9)","v":4},{"$f":"SUM([1]靖边县!J5:J9)","v":4},{"$f":"SUM([1]靖边县!K5:K9)","v":4},{"$nulls":5},70]
[null,"小学",5,5,5,{"$nulls":11},15]
[null,"幼儿园",{"$nulls":13},10,10]
["绥德县\n（30名）","中学",3,2,2,2,1,1,2,1,2,{"$nulls":5},16]
[null,"小学",{"$nulls":9},2,null,2,null,null,4]
[null,"幼儿园",{"$nulls":13},10,10]
["米脂县\n（26名）","中学",3,3,null,null,2,1,null,1,1,1,{"$nulls":4},12]
[null,"小学",1,null,2,{"$nulls":4},3,null,null,{"$f":"SUM([1]米脂县!M10:M13)","v":1},1,null,null,8]
[null,"幼儿园",{"$nulls":13},6,6]
["佳县\n（10名）","中学",{"$nulls":3},2,2,{"$nulls":9},4]
[null,"小学",{"$nulls":11},2,null,null,2]
[null,"幼儿园",{"$nulls":13},4,4]
["吴堡县\n（27名）","中学",3,1,1,1,1,3,1,1,3,2,{"$nulls":4},17]
[null,"小学",1,2,{"$nulls":12},3]
[null,"幼儿园",{"$nulls":13},7,7]
["清涧县\n（33名）","中学",null,null,2,null,1,{"$nulls":3},1,null,1,1,2,null,8]
[null,"小学",2,2,2,{"$nulls":6},2,2,2,null,null,12]
[null,"幼儿园",{"$nulls":13},13,13]
["子洲县\n（18名）","中学",null,null,1,2,1,1,2,{"$nulls":7},7]
[null,"小学",4,2,{"$nulls":7},1,null,2,null,null,9]
[null,"幼儿园",{"$nulls":13},2,2]
["高新区\n（20名）","幼儿园",{"$nulls":13},20,20]
["市直学校\n（20名）","中学",{"$nulls":9},4,{"$nulls":4},4]
[null,"小学",2,3,{"$nulls":7},1,{"$nulls":4},{"$f":"SUM(C39:P39)","v":6}]
[null,"幼儿园",{"$nulls":13},8,{"$f":"SUM(C40:P40)","v":8}]
[null,"市体校",{"$nulls":9},2,{"$nulls":4},2]
["合计",null,{"$f":"SUM(C5:C40)","v":104},{"$f":"SUM(D5:D40)","v":93},72,39,18,13,24,34,31,33,21,24,3,149,658]
["备注",null,"榆林市体育运动学校计划招聘2名体育教师：1、运动训练或体育教学专业，主修啦啦操项目，在各级业余体操队训练三年以上，有运动训练经历；2、运动训练专业，主修篮球项目，在各级业余篮球队训练三年以上，在省级以上篮球比赛中获得优异成绩，运动等级国家二级运动员及以上，具有本专业国家一级及以上裁判员水平。"]